Workbook

Sheet 春季シングルストーナメント
A1: 男子トーナメント
A2: 1 | B2: =IFERROR(VLOOKUP(A2,[1]学校番手表!$A$3:$C$35,3,0),"") -> 杉 渕 忠 稀 | C2: ( | D2: =IFERROR(VLOOKUP(A2,[1]学校番手表!$A$4:$C$35,2,0),"") -> 秋田北鷹 | E2: ) | P2: 17 | Q2: =IFERROR(VLOOKUP(P2,[1]学校番手表!$A$4:$C$35,3,0),"") -> 因 幡 颯 汰 | R2: ( | S2: =IFERROR(VLOOKUP(P2,[1]学校番手表!$A$4:$C$35,2,0),"") -> 秋田北鷹 | T2: )
G3: 2 | N3: 0
A4: 2 | B4: =IFERROR(VLOOKUP(A4,[1]学校番手表!$A$3:$C$35,3,0),"") -> 関 屋 泰 進 | C4: ( | D4: =IFERROR(VLOOKUP(A4,[1]学校番手表!$A$4:$C$35,2,0),"") -> 大曲 | E4: ) | P4: 18 | Q4: =IFERROR(VLOOKUP(P4,[1]学校番手表!$A$4:$C$35,3,0),"") -> 小 松 柊 也 | R4: ( | S4: =IFERROR(VLOOKUP(P4,[1]学校番手表!$A$4:$C$35,2,0),"") -> 大曲 | T4: )
F5: 1 | O5: 1
A6: 3 | B6: =IFERROR(VLOOKUP(A6,[1]学校番手表!$A$3:$C$35,3,0),"") -> 宮 越 海 成 | C6: ( | D6: =IFERROR(VLOOKUP(A6,[1]学校番手表!$A$4:$C$35,2,0),"") -> 秋田北 | E6: ) | O6: 0 | P6: 19 | Q6: =IFERROR(VLOOKUP(P6,[1]学校番手表!$A$4:$C$35,3,0),"") -> 柴 田 将 冴 | R6: ( | S6: =IFERROR(VLOOKUP(P6,[1]学校番手表!$A$4:$C$35,2,0),"") -> 秋田北 | T6: )
A8: 4 | B8: =IFERROR(VLOOKUP(A8,[1]学校番手表!$A$3:$C$35,3,0),"") -> 藤 城 和 樹 | C8: ( | D8: =IFERROR(VLOOKUP(A8,[1]学校番手表!$A$4:$C$35,2,0),"") -> 大曲工 | E8: ) | P8: 20 | Q8: =IFERROR(VLOOKUP(P8,[1]学校番手表!$A$4:$C$35,3,0),"") -> 佐 藤 明 育 | R8: ( | S8: =IFERROR(VLOOKUP(P8,[1]学校番手表!$A$4:$C$35,2,0),"") -> 大曲工 | T8: )
F9: 1 | I9: 2 | L9: 3
A10: 5 | B10: =IFERROR(VLOOKUP(A10,[1]学校番手表!$A$3:$C$35,3,0),"") -> 猪 股 悠 志 | C10: ( | D10: =IFERROR(VLOOKUP(A10,[1]学校番手表!$A$4:$C$35,2,0),"") -> 秋田北鷹 | E10: ) | P10: 21 | Q10: =IFERROR(VLOOKUP(P10,[1]学校番手表!$A$4:$C$35,3,0),"") -> 黒 澤 悠 真 | R10: ( | S10: =IFERROR(VLOOKUP(P10,[1]学校番手表!$A$4:$C$35,2,0),"") -> 大館鳳鳴 | T10: )
A12: 6 | B12: =IFERROR(VLOOKUP(A12,[1]学校番手表!$A$3:$C$35,3,0),"") -> 髙 𫞏 諒 太 | C12: ( | D12: =IFERROR(VLOOKUP(A12,[1]学校番手表!$A$4:$C$35,2,0),"") -> 横手清陵 | E12: ) | P12: 22 | Q12: =IFERROR(VLOOKUP(P12,[1]学校番手表!$A$4:$C$35,3,0),"") -> 佐々木 廉 | R12: ( | S12: =IFERROR(VLOOKUP(P12,[1]学校番手表!$A$4:$C$35,2,0),"") -> 本荘 | T12: )
F13: 1 | H13: 0 | M13: 0 | O13: 0
A14: 7 | B14: =IFERROR(VLOOKUP(A14,[1]学校番手表!$A$3:$C$35,3,0),"") -> 齊 藤 良 太 | C14: ( | D14: =IFERROR(VLOOKUP(A14,[1]学校番手表!$A$4:$C$35,2,0),"") -> 大館鳳鳴 | E14: ) | P14: 23 | Q14: =IFERROR(VLOOKUP(P14,[1]学校番手表!$A$4:$C$35,3,0),"") -> 髙 橋 理 駈 | R14: ( | S14: =IFERROR(VLOOKUP(P14,[1]学校番手表!$A$4:$C$35,2,0),"") -> 横手清陵 | T14: )
A16: 8 | B16: =IFERROR(VLOOKUP(A16,[1]学校番手表!$A$3:$C$35,3,0),"") -> 成 田 辿 真 | C16: ( | D16: =IFERROR(VLOOKUP(A16,[1]学校番手表!$A$4:$C$35,2,0),"") -> 能代松陽 | E16: ) | G16: 1 | N16: 1 | P16: 24 | Q16: =IFERROR(VLOOKUP(P16,[1]学校番手表!$A$4:$C$35,3,0),"") -> 青 山 実 礼 | R16: ( | S16: =IFERROR(VLOOKUP(P16,[1]学校番手表!$A$4:$C$35,2,0),"") -> 花輪 | T16: )
F17: 1 | O17: 2
A18: 9 | B18: =IFERROR(VLOOKUP(A18,[1]学校番手表!$A$3:$C$35,3,0),"") -> 片 岡 将 武 | C18: ( | D18: =IFERROR(VLOOKUP(A18,[1]学校番手表!$A$4:$C$35,2,0),"") -> 秋田北鷹 | E18: ) | L18: 3 | O18: 1 | P18: 25 | Q18: =IFERROR(VLOOKUP(P18,[1]学校番手表!$A$4:$C$35,3,0),"") -> 木 村 草 太 | R18: ( | S18: =IFERROR(VLOOKUP(P18,[1]学校番手表!$A$4:$C$35,2,0),"") -> 秋田北鷹 | T18: )
N19: 1
A20: 10 | B20: =IFERROR(VLOOKUP(A20,[1]学校番手表!$A$3:$C$35,3,0),"") -> 佐 藤 圭 | C20: ( | D20: =IFERROR(VLOOKUP(A20,[1]学校番手表!$A$4:$C$35,2,0),"") -> 横手清陵 | E20: ) | P20: 26 | Q20: =IFERROR(VLOOKUP(P20,[1]学校番手表!$A$4:$C$35,3,0),"") -> 鈴 木 優 太 | R20: ( | S20: =IFERROR(VLOOKUP(P20,[1]学校番手表!$A$4:$C$35,2,0),"") -> 大館鳳鳴 | T20: )
F21: 0 | H21: 0
A22: 11 | B22: =IFERROR(VLOOKUP(A22,[1]学校番手表!$A$3:$C$35,3,0),"") -> 近 藤 優 輝 | C22: ( | D22: =IFERROR(VLOOKUP(A22,[1]学校番手表!$A$4:$C$35,2,0),"") -> 本荘 | E22: ) | F22: 0 | O22: 0 | P22: 27 | Q22: =IFERROR(VLOOKUP(P22,[1]学校番手表!$A$4:$C$35,3,0),"") -> 小 柳 光 輝 | R22: ( | S22: =IFERROR(VLOOKUP(P22,[1]学校番手表!$A$4:$C$35,2,0),"") -> 大曲工 | T22: )
A24: 12 | B24: =IFERROR(VLOOKUP(A24,[1]学校番手表!$A$3:$C$35,3,0),"") -> 鶴 田 歩 夢 | C24: ( | D24: =IFERROR(VLOOKUP(A24,[1]学校番手表!$A$4:$C$35,2,0),"") -> 大曲工 | E24: ) | G24: 0 | P24: 28 | Q24: =IFERROR(VLOOKUP(P24,[1]学校番手表!$A$4:$C$35,3,0),"") -> 髙 沢 響 | R24: ( | S24: =IFERROR(VLOOKUP(P24,[1]学校番手表!$A$4:$C$35,2,0),"") -> 能代松陽 | T24: )
A26: 13 | B26: =IFERROR(VLOOKUP(A26,[1]学校番手表!$A$3:$C$35,3,0),"") -> 石 田 琉 人 | C26: ( | D26: =IFERROR(VLOOKUP(A26,[1]学校番手表!$A$4:$C$35,2,0),"") -> 大館鳳鳴 | E26: ) | P26: 29 | Q26: =IFERROR(VLOOKUP(P26,[1]学校番手表!$A$4:$C$35,3,0),"") -> 秋 山 魁 斗 | R26: ( | S26: =IFERROR(VLOOKUP(P26,[1]学校番手表!$A$4:$C$35,2,0),"") -> 大曲工 | T26: )
G27: 0 | N27: 1
A28: 14 | B28: =IFERROR(VLOOKUP(A28,[1]学校番手表!$A$3:$C$35,3,0),"") -> 豊 島 涼 介 | C28: ( | D28: =IFERROR(VLOOKUP(A28,[1]学校番手表!$A$4:$C$35,2,0),"") -> 大曲工 | E28: ) | P28: 30 | Q28: =IFERROR(VLOOKUP(P28,[1]学校番手表!$A$4:$C$35,3,0),"") -> 佐 藤 那 樹 | R28: ( | S28: =IFERROR(VLOOKUP(P28,[1]学校番手表!$A$4:$C$35,2,0),"") -> 横手清陵 | T28: )
F29: 0 | O29: 0
A30: 15 | B30: =IFERROR(VLOOKUP(A30,[1]学校番手表!$A$3:$C$35,3,0),"") -> 石 川 宥 生 | C30: ( | D30: =IFERROR(VLOOKUP(A30,[1]学校番手表!$A$4:$C$35,2,0),"") -> 秋田北 | E30: ) | F30: 0 | M30: 1 | O30: 0 | P30: 31 | Q30: =IFERROR(VLOOKUP(P30,[1]学校番手表!$A$4:$C$35,3,0),"") -> 鎌 田 粋 人 | R30: ( | S30: =IFERROR(VLOOKUP(P30,[1]学校番手表!$A$4:$C$35,2,0),"") -> 秋田北 | T30: )
A32: 16 | B32: =IFERROR(VLOOKUP(A32,[1]学校番手表!$A$3:$C$35,3,0),"") -> 畠 山 颯 太 | C32: ( | D32: =IFERROR(VLOOKUP(A32,[1]学校番手表!$A$4:$C$35,2,0),"") -> 花輪 | E32: ) | P32: 32 | Q32: =IFERROR(VLOOKUP(P32,[1]学校番手表!$A$4:$C$35,3,0),"") -> 畠 山 七 樹 | R32: ( | S32: =IFERROR(VLOOKUP(P32,[1]学校番手表!$A$4:$C$35,2,0),"") -> 秋田北鷹 | T32: )
A34: 女子トーナメント
A35: 1 | B35: =IFERROR(VLOOKUP(A35,[1]学校番手表!$A$40:$C$71,3,0),"") -> 加 藤 寧 々 | C35: ( | D35: =IFERROR(VLOOKUP(A35,[1]学校番手表!$A$40:$C$71,2,0),"") -> 秋田北 | E35: ) | P35: 17 | Q35: =IFERROR(VLOOKUP(P35,[1]学校番手表!$A$40:$C$71,3,0),"") -> 九 島 ひより | R35: ( | S35: =IFERROR(VLOOKUP(P35,[1]学校番手表!$A$40:$C$71,2,0),"") -> 秋田令和 | T35: )
A37: 2 | B37: =IFERROR(VLOOKUP(A37,[1]学校番手表!$A$40:$C$71,3,0),"") -> 髙 野 リ サ | C37: ( | D37: =IFERROR(VLOOKUP(A37,[1]学校番手表!$A$40:$C$71,2,0),"") -> 国際情報 | E37: ) | P37: 18 | Q37: =IFERROR(VLOOKUP(P37,[1]学校番手表!$A$40:$C$71,3,0),"") -> 大 極 芽 生 | R37: ( | S37: =IFERROR(VLOOKUP(P37,[1]学校番手表!$A$40:$C$71,2,0),"") -> 横手 | T37: )
F38: 1 | O38: 0
A39: 3 | B39: =IFERROR(VLOOKUP(A39,[1]学校番手表!$A$40:$C$71,3,0),"") -> 虻 川 沙 弥 | C39: ( | D39: =IFERROR(VLOOKUP(A39,[1]学校番手表!$A$40:$C$71,2,0),"") -> 大館鳳鳴 | E39: ) | O39: 1 | P39: 19 | Q39: =IFERROR(VLOOKUP(P39,[1]学校番手表!$A$40:$C$71,3,0),"") -> 田 口 春 暖 | R39: ( | S39: =IFERROR(VLOOKUP(P39,[1]学校番手表!$A$40:$C$71,2,0),"") -> 秋田北 | T39: )
A41: 4 | B41: =IFERROR(VLOOKUP(A41,[1]学校番手表!$A$40:$C$71,3,0),"") -> 米 澤 香 子 | C41: ( | D41: =IFERROR(VLOOKUP(A41,[1]学校番手表!$A$40:$C$71,2,0),"") -> 秋田令和 | E41: ) | G41: 1 | N41: 0 | P41: 20 | Q41: =IFERROR(VLOOKUP(P41,[1]学校番手表!$A$40:$C$71,3,0),"") -> 小 坂 美 凪 | R41: ( | S41: =IFERROR(VLOOKUP(P41,[1]学校番手表!$A$40:$C$71,2,0),"") -> 秋田西 | T41: )
F42: Ｒ | L42: 0
A43: 5 | B43: =IFERROR(VLOOKUP(A43,[1]学校番手表!$A$40:$C$71,3,0),"") -> 九 嶋 優 衣 | C43: ( | D43: =IFERROR(VLOOKUP(A43,[1]学校番手表!$A$40:$C$71,2,0),"") -> 秋田西 | E43: ) | P43: 21 | Q43: =IFERROR(VLOOKUP(P43,[1]学校番手表!$A$40:$C$71,3,0),"") -> 佐 藤 真 子 | R43: ( | S43: =IFERROR(VLOOKUP(P43,[1]学校番手表!$A$40:$C$71,2,0),"") -> 秋田北 | T43: )
G44: 1 | N44: 2
A45: 6 | B45: =IFERROR(VLOOKUP(A45,[1]学校番手表!$A$40:$C$71,3,0),"") -> 白 石 すみれ | C45: ( | D45: =IFERROR(VLOOKUP(A45,[1]学校番手表!$A$40:$C$71,2,0),"") -> 横手 | E45: ) | P45: 22 | Q45: =IFERROR(VLOOKUP(P45,[1]学校番手表!$A$40:$C$71,3,0),"") -> 髙 橋 紗 羽 | R45: ( | S45: =IFERROR(VLOOKUP(P45,[1]学校番手表!$A$40:$C$71,2,0),"") -> 横手城南 | T45: )
F46: 0 | O46: 0
A47: 7 | B47: =IFERROR(VLOOKUP(A47,[1]学校番手表!$A$40:$C$71,3,0),"") -> 阿 部 心 優 | C47: ( | D47: =IFERROR(VLOOKUP(A47,[1]学校番手表!$A$40:$C$71,2,0),"") -> 横手城南 | E47: ) | F47: 0 | H47: 0 | M47: 2 | O47: 0 | P47: 23 | Q47: =IFERROR(VLOOKUP(P47,[1]学校番手表!$A$40:$C$71,3,0),"") -> 佐 藤 日 菜 | R47: ( | S47: =IFERROR(VLOOKUP(P47,[1]学校番手表!$A$40:$C$71,2,0),"") -> 秋田令和 | T47: )
A49: 8 | B49: =IFERROR(VLOOKUP(A49,[1]学校番手表!$A$40:$C$71,3,0),"") -> 田 口 陽 向 | C49: ( | D49: =IFERROR(VLOOKUP(A49,[1]学校番手表!$A$40:$C$71,2,0),"") -> 秋田令和 | E49: ) | P49: 24 | Q49: =IFERROR(VLOOKUP(P49,[1]学校番手表!$A$40:$C$71,3,0),"") -> 畠 山 梨央苗 | R49: ( | S49: =IFERROR(VLOOKUP(P49,[1]学校番手表!$A$40:$C$71,2,0),"") -> 秋田西 | T49: )
A51: 9 | B51: =IFERROR(VLOOKUP(A51,[1]学校番手表!$A$40:$C$71,3,0),"") -> 武 藤 咲 | C51: ( | D51: =IFERROR(VLOOKUP(A51,[1]学校番手表!$A$40:$C$71,2,0),"") -> 秋田北 | E51: ) | I51: 0 | P51: 25 | Q51: =IFERROR(VLOOKUP(P51,[1]学校番手表!$A$40:$C$71,3,0),"") -> 船 木 彩 花 | R51: ( | S51: =IFERROR(VLOOKUP(P51,[1]学校番手表!$A$40:$C$71,2,0),"") -> 秋田令和 | T51: )
A53: 10 | B53: =IFERROR(VLOOKUP(A53,[1]学校番手表!$A$40:$C$71,3,0),"") -> 大 越 真 緒 | C53: ( | D53: =IFERROR(VLOOKUP(A53,[1]学校番手表!$A$40:$C$71,2,0),"") -> 秋田令和 | E53: ) | P53: 26 | Q53: =IFERROR(VLOOKUP(P53,[1]学校番手表!$A$40:$C$71,3,0),"") -> 小笠原 彩 | R53: ( | S53: =IFERROR(VLOOKUP(P53,[1]学校番手表!$A$40:$C$71,2,0),"") -> 国際情報 | T53: )
F54: 1 | O54: 0
A55: 11 | B55: =IFERROR(VLOOKUP(A55,[1]学校番手表!$A$40:$C$71,3,0),"") -> 佐 藤 百 笑 | C55: ( | D55: =IFERROR(VLOOKUP(A55,[1]学校番手表!$A$40:$C$71,2,0),"") -> 秋田北鷹 | E55: ) | O55: 0 | P55: 27 | Q55: =IFERROR(VLOOKUP(P55,[1]学校番手表!$A$40:$C$71,3,0),"") -> 萬 田 美 羽 | R55: ( | S55: =IFERROR(VLOOKUP(P55,[1]学校番手表!$A$40:$C$71,2,0),"") -> 大館鳳鳴 | T55: )
A57: 12 | B57: =IFERROR(VLOOKUP(A57,[1]学校番手表!$A$40:$C$71,3,0),"") -> 平 塚 彩 乃 | C57: ( | D57: =IFERROR(VLOOKUP(A57,[1]学校番手表!$A$40:$C$71,2,0),"") -> 秋田西 | E57: ) | G57: 1 | N57: 0 | P57: 28 | Q57: =IFERROR(VLOOKUP(P57,[1]学校番手表!$A$40:$C$71,3,0),"") -> 大 塚 友 楽 | R57: ( | S57: =IFERROR(VLOOKUP(P57,[1]学校番手表!$A$40:$C$71,2,0),"") -> 秋田西 | T57: )
F58: 1
A59: 13 | B59: =IFERROR(VLOOKUP(A59,[1]学校番手表!$A$40:$C$71,3,0),"") -> 佐 藤 かすみ | C59: ( | D59: =IFERROR(VLOOKUP(A59,[1]学校番手表!$A$40:$C$71,2,0),"") -> 秋田西 | E59: ) | I59: 1 | P59: 29 | Q59: =IFERROR(VLOOKUP(P59,[1]学校番手表!$A$40:$C$71,3,0),"") -> 阿 部 彩 羽 | R59: ( | S59: =IFERROR(VLOOKUP(P59,[1]学校番手表!$A$40:$C$71,2,0),"") -> 秋田令和 | T59: )
A61: 14 | B61: =IFERROR(VLOOKUP(A61,[1]学校番手表!$A$40:$C$71,3,0),"") -> 若 狭 あ い | C61: ( | D61: =IFERROR(VLOOKUP(A61,[1]学校番手表!$A$40:$C$71,2,0),"") -> 秋田北 | E61: ) | P61: 30 | Q61: =IFERROR(VLOOKUP(P61,[1]学校番手表!$A$40:$C$71,3,0),"") -> 御所野 友 莉 | R61: ( | S61: =IFERROR(VLOOKUP(P61,[1]学校番手表!$A$40:$C$71,2,0),"") -> 秋田北鷹 | T61: )
F62: 0 | O62: 1
A63: 15 | B63: =IFERROR(VLOOKUP(A63,[1]学校番手表!$A$40:$C$71,3,0),"") -> 須 田 歩稀那 | C63: ( | D63: =IFERROR(VLOOKUP(A63,[1]学校番手表!$A$40:$C$71,2,0),"") -> 由利 | E63: ) | F63: 0 | H63: 0 | M63: 1 | O63: 1 | P63: 31 | Q63: =IFERROR(VLOOKUP(P63,[1]学校番手表!$A$40:$C$71,3,0),"") -> 畠 山 千愛実 | R63: ( | S63: =IFERROR(VLOOKUP(P63,[1]学校番手表!$A$40:$C$71,2,0),"") -> 由利 | T63: )
A65: 16 | B65: =IFERROR(VLOOKUP(A65,[1]学校番手表!$A$40:$C$71,3,0),"") -> 田 口 輝 | C65: ( | D65: =IFERROR(VLOOKUP(A65,[1]学校番手表!$A$40:$C$71,2,0),"") -> 秋田令和 | E65: ) | G65: 2 | N65: 1 | P65: 32 | Q65: =IFERROR(VLOOKUP(P65,[1]学校番手表!$A$40:$C$71,3,0),"") -> 桑 原 暖 | R65: ( | S65: =IFERROR(VLOOKUP(P65,[1]学校番手表!$A$40:$C$71,2,0),"") -> 秋田北 | T65: )
